BEGIN:VCALENDAR
VERSION:2.0
PRODID:-//Summerstorm Dance Company - ECPv6.15.20//NONSGML v1.0//EN
CALSCALE:GREGORIAN
METHOD:PUBLISH
X-WR-CALNAME:Summerstorm Dance Company
X-ORIGINAL-URL:https://summerstorm.de
X-WR-CALDESC:Veranstaltungen für Summerstorm Dance Company
REFRESH-INTERVAL;VALUE=DURATION:PT1H
X-Robots-Tag:noindex
X-PUBLISHED-TTL:PT1H
BEGIN:VTIMEZONE
TZID:UTC
BEGIN:STANDARD
TZOFFSETFROM:+0000
TZOFFSETTO:+0000
TZNAME:UTC
DTSTART:20210101T000000
END:STANDARD
END:VTIMEZONE
BEGIN:VTIMEZONE
TZID:Europe/Berlin
BEGIN:DAYLIGHT
TZOFFSETFROM:+0100
TZOFFSETTO:+0200
TZNAME:CEST
DTSTART:20240331T010000
END:DAYLIGHT
BEGIN:STANDARD
TZOFFSETFROM:+0200
TZOFFSETTO:+0100
TZNAME:CET
DTSTART:20241027T010000
END:STANDARD
BEGIN:DAYLIGHT
TZOFFSETFROM:+0100
TZOFFSETTO:+0200
TZNAME:CEST
DTSTART:20250330T010000
END:DAYLIGHT
BEGIN:STANDARD
TZOFFSETFROM:+0200
TZOFFSETTO:+0100
TZNAME:CET
DTSTART:20251026T010000
END:STANDARD
BEGIN:DAYLIGHT
TZOFFSETFROM:+0100
TZOFFSETTO:+0200
TZNAME:CEST
DTSTART:20260329T010000
END:DAYLIGHT
BEGIN:STANDARD
TZOFFSETFROM:+0200
TZOFFSETTO:+0100
TZNAME:CET
DTSTART:20261025T010000
END:STANDARD
END:VTIMEZONE
BEGIN:VEVENT
DTSTART;TZID=UTC:20251107T193000
DTEND;TZID=UTC:20251107T223000
DTSTAMP:20260423T133527
CREATED:20250717T103720Z
LAST-MODIFIED:20250717T103720Z
UID:247-1762543800-1762554600@summerstorm.de
SUMMARY:Irish Music and Dance Night
DESCRIPTION:IRISH MUSIC & DANCE NIGHT\n\n\n\n\n\nMit 3 On The Bund und den irischen Tanzgruppen Summerstorm Dance Company und Emerald Dancers. \nDas dynamische Quintett 3 On The Bund\, tief verwurzelt in der traditionellen Musik Irlands\, ist „eine junge\, energetische Band mit unendlichem Potenzial.“\n(Irish Music Magazine) \n\n\n\n\n\n\nInspiriert durch ihre diversen musikalischen Einflüsse und Hintergründe\, verbinden 3 on The Bund Tradition und Innovation auf eine einzigartige Art und Weise. Ihre komplexen Arrangements von traditionellen und neu komponierten Stücken strotzen vor Energie und Gefühl und bleiben dennoch stets authentisch.\nDie Musiker Susan Coleman (Donegal)\, Rebecca McCarthyKent (Waterford)\, Simon Pfisterer (Deutschland)\, Seán Kelliher (Kerry)\, Ella McGrory (Donegal) sind alle individuell mit Preisen ausgezeichnete Künstler.\nTänzerisch untermalt wird das Programm mit Irish Showdance der Emerald Dancers und der Summerstorm Dance Company. \nAußerdem werden Sie auch kulinarisch bestens umsorgt und können vor Ort passende Speisen zum Event erhalten. \nDie Musiker bieten Workshops  beim Irish Weekend in der vhs -nord an. \nEin Konzert im Rahmen des Irish Weekend in Zusammenarbeit der Volkshochschule im Norden des Landkreises München e.V.
URL:https://summerstorm.de/event/irish-music-and-dance-night
LOCATION:Bürgerhaus Garching
ATTACH;FMTTYPE=image/png:https://summerstorm.de/wp-content/uploads/2025/07/Bildschirmfoto-2025-07-17-um-12.37.04.png
END:VEVENT
BEGIN:VEVENT
DTSTART;TZID=UTC:20250712T163000
DTEND;TZID=UTC:20250712T170000
DTSTAMP:20260423T133527
CREATED:20250717T103322Z
LAST-MODIFIED:20250717T103351Z
UID:241-1752337800-1752339600@summerstorm.de
SUMMARY:Garchinger Bürgerwoche
DESCRIPTION:Wir dürfen wieder beim „Kulturbrettl Open Air“ dabei sein mit einer Irish Dance Tanzeinlage.
URL:https://summerstorm.de/event/garchinger-buergerwoche
LOCATION:Garching Rathausplatz
ATTACH;FMTTYPE=image/png:https://summerstorm.de/wp-content/uploads/2025/07/A3PlakatKulturbrettlBGW2025.png
END:VEVENT
BEGIN:VEVENT
DTSTART;TZID=UTC:20250316T120000
DTEND;TZID=UTC:20250316T170000
DTSTAMP:20260423T133527
CREATED:20250206T121028Z
LAST-MODIFIED:20250206T121028Z
UID:226-1742126400-1742144400@summerstorm.de
SUMMARY:St. Patricks Day Parade
DESCRIPTION:Wir sind auch heuer wieder dabei bei der St. Patricks Day Parade. \nStart: 12:00 Uhr an der Münchner Freiheit\, über die Ludwigstraße zum Odeonsplatz. \nUnser Auftritt auf der Bühne „Odeonsplatz Nord“ ist von 16.30–17 Uhr gemeinsam mit den Emerald Lancers geplant. \n 
URL:https://summerstorm.de/event/st-patricks-day-parade
LOCATION:odeonsplatz münchen\, Odeonsplatz\, München\, Bayern\, Deutschland
ATTACH;FMTTYPE=image/jpeg:https://summerstorm.de/wp-content/uploads/2025/02/image.jpeg
END:VEVENT
BEGIN:VEVENT
DTSTART;TZID=Europe/Berlin:20250308T190000
DTEND;TZID=Europe/Berlin:20250308T220000
DTSTAMP:20260423T133527
CREATED:20250206T121331Z
LAST-MODIFIED:20250206T122116Z
UID:229-1741460400-1741471200@summerstorm.de
SUMMARY:Irish Folk Abend in Rohrbach
DESCRIPTION:Wir freuen uns\, wieder in Rohrbach zu Gast sein zu dürfen. \nWeitere Informationen: \nhttps://www.rohrbach-ilm.de/event/irish-folk-abend-2/ \nTickets: \nhttps://okticket.de/tickets-irish-folk-abend-rohrbach-an-der-ilm-turmberghalle-2025-03-08-e49481 \n \n 
URL:https://summerstorm.de/event/irish-folk-abend-in-rohrbach
LOCATION:Turmberghalle Rohrbach\, Im Frauental 5\, Rohrbach\, 85296
ATTACH;FMTTYPE=image/jpeg:https://summerstorm.de/wp-content/uploads/2025/02/plakat_irishfolk_Maerz_25-scaled.jpg
END:VEVENT
BEGIN:VEVENT
DTSTART;TZID=UTC:20241116T160000
DTEND;TZID=UTC:20241116T190000
DTSTAMP:20260423T133527
CREATED:20241108T192612Z
LAST-MODIFIED:20241108T193132Z
UID:216-1731772800-1731783600@summerstorm.de
SUMMARY:Fest der Kulturen
DESCRIPTION:Wir sind dabei beim Fest der Kulturen und tanzen um 17.10 Uhr. Anschließend könnt ihr beim Mitmachtanz selbst das Tanzbein schwingen! \nHier findet ihr das komplette Programm. \n 
URL:https://summerstorm.de/event/fest-der-kulturen
LOCATION:Bürgerhaus Unterschleißheim\, Rathausplatz 1\, Unterschleißheim\, 85716\, Deutschland
ATTACH;FMTTYPE=image/png:https://summerstorm.de/wp-content/uploads/2024/11/Bildschirmfoto-2024-11-08-um-20.25.43.png
END:VEVENT
BEGIN:VEVENT
DTSTART;TZID=UTC:20241025T193000
DTEND;TZID=UTC:20241025T223000
DTSTAMP:20260423T133527
CREATED:20250206T120623Z
LAST-MODIFIED:20250206T120704Z
UID:223-1729884600-1729895400@summerstorm.de
SUMMARY:Irish Weekend – IRISH MUSIC & DANCE NIGHT in Garching
DESCRIPTION:
URL:https://summerstorm.de/event/irish-weekend-irish-music-dance-night-in-garching-2
LOCATION:Bürgerhaus Garching
ATTACH;FMTTYPE=image/png:https://summerstorm.de/wp-content/uploads/2025/02/Bildschirmfoto-2025-02-06-um-13.05.33.png
END:VEVENT
BEGIN:VEVENT
DTSTART;TZID=UTC:20240719T183000
DTEND;TZID=UTC:20240719T190000
DTSTAMP:20260423T133527
CREATED:20240711T172531Z
LAST-MODIFIED:20240711T172531Z
UID:211-1721413800-1721415600@summerstorm.de
SUMMARY:Kulturfest im Schlosspark Ismaning
DESCRIPTION:Kulturfest vom 19. bis 21. Juli 2024\n\nProgramm\n\n\nFreitag\, 19. Juli 2024\n17.00 Uhr: Außergewöhnliche Leistungen – Ehrung der Gemeinde Ismaning\, begleitet von der Musikschule Ismaning \n18.00 Uhr: Line Dance (vhs) \n-> 18.30 Uhr: Summerstorm Dance Company\, Irischer Tanz (vhs) \n19.00 Uhr: Natürlich Ismaning – Die Preisträger des Fotowettbewerbs\, mit Bild-Choreografie der vhs \n19.30 Uhr: K-Pop – dynamisch und energiegeladen\, verschiedene Stilrichtungen: präzise\, synchron und ausdrucksstark getanzt (vhs) \n20.00 Uhr: Bavaria Blend – eine bayerische Mischung\, Michi Strigl und Bernhard Lehner (Akustik-Gitarrenduo mit zweistimmigem Gesang) \n21.30 Uhr: Film „Der Junge muss an die frische Luft“ von Charlotte Link\, mit Einführung zum Film\, Open-Air-Kino (vhs)
URL:https://summerstorm.de/event/kulturfest-im-schlosspark-ismaning-2
LOCATION:Schlosspark Ismaning
ATTACH;FMTTYPE=image/jpeg:https://summerstorm.de/wp-content/uploads/2024/07/20230715_153442-scaled.jpg
END:VEVENT
BEGIN:VEVENT
DTSTART;TZID=UTC:20240713T140000
DTEND;TZID=UTC:20240713T170000
DTSTAMP:20260423T133527
CREATED:20240711T171924Z
LAST-MODIFIED:20240711T171924Z
UID:206-1720879200-1720890000@summerstorm.de
SUMMARY:Straßenfest Garching
DESCRIPTION:Summerstorm tanzt am Samstag um 14 Uhr:\nDie Volkshochschule im Norden des Landkreises e.V. präsentiert verschiedene Performances darunter Irish Dance mit der Summerstorm Dance Company\, K-Pop mit der YXNow Dance Crew\, eine Mitmachaktion der VHS Garching und einem musikalischen Beitrag des TalentCAMPus mit einer eigenen Interpretation des „World Songs“.
URL:https://summerstorm.de/event/strassenfest-garching
ATTACH;FMTTYPE=image/png:https://summerstorm.de/wp-content/uploads/2024/07/A3-Plakat-Kulturbrettl-BGW-2024.png
END:VEVENT
BEGIN:VEVENT
DTSTART;TZID=UTC:20240317T110000
DTEND;TZID=UTC:20240317T200000
DTSTAMP:20260423T133527
CREATED:20240217T211805Z
LAST-MODIFIED:20240217T211805Z
UID:199-1710673200-1710705600@summerstorm.de
SUMMARY:St. Patrick’s Day Parade & Bühnenprogramm
DESCRIPTION:Wir sind wieder dabei bei der Parade und dem Bühnenprogramm zu Ehren des irischen Nationalheiligen St. Patrick. \nAlle Infos: \nFacebook: https://www.facebook.com/StPatricksDayParadeMunich\nInstagram: https://www.instagram.com/stpatricksfestivalmunich/\nWebsite: https://www.stpatricksday.de/
URL:https://summerstorm.de/event/st-patricks-day-parade-buehnenprogramm
LOCATION:odeonsplatz münchen\, Odeonsplatz\, München\, Bayern\, Deutschland
ATTACH;FMTTYPE=image/webp:https://summerstorm.de/wp-content/uploads/2024/02/St.-Patricks-Day-2024_.jpg.webp
END:VEVENT
BEGIN:VEVENT
DTSTART;TZID=UTC:20240315T200000
DTEND;TZID=UTC:20240315T220000
DTSTAMP:20260423T133527
CREATED:20240217T211120Z
LAST-MODIFIED:20240217T211120Z
UID:196-1710532800-1710540000@summerstorm.de
SUMMARY:ST. PATRICK’S DAY in Unterschleißheim
DESCRIPTION:Irish Music & Dance mit den Broom Bezzums\, den Emerald Dancers und der Summerstorm Dance Company \nST. PATRICK’S DAY\nDen Lieblingstag der Iren feiern wir in Unterschleißheim mit einer der aufregendsten und originellsten Folkbands in Deutschland und zwei mitreißenden Irish-Dance-Gruppen. \nDie Broom Bezzums haben mit ihrer zeitgenössischen Interpretation von Folkmusik bereits mehrfach den deutschen Rock- und Pop-Preis gewonnen. Auf der Bühne zelebrieren die beiden Energiebündel Mark Bloomer und Andrew Cadie eine energische\, unterhaltsame und musikalisch aufregende Live-Show\, mit Witz und einem unerwartet vollen Sound. Dabei vermischt sich Mark Bloomers rauchige Stimme perfekt mit dem reinen\, treibenden Gesang von Andrew Cadie. Ein Potpourri von Reels mit schnellem Geigenspiel wechselt sich ab mit den schönen\, klagenden Northumbrian pipes – nordenglische Dudelsäcke –\, die sich mit den Klängen der Mandola vereinen. Sie berühren das Herz\, stimmen nachdenklich und animieren die zwei Irish-Dance-Gruppen. \nDas Publikum wird also nicht nur Ohren\, sondern auch Augen machen\, wenn die Emerald Dancers und die Summerstorm Dance Company dieses Konzert am St. Patrick’s Day mit ihren Irish-Dance-Darbietungen zu einem unvergesslichen Abend machen! \nIn Zusammenarbeit mit der Volkshochschule im Norden des Landkreises München e.V. \n  \nKeine Ermäßigung \n  \nHier online über München Ticket buchbar (zzgl. Vorverkaufsgebühren). \nErmäßigungen und Rollstuhlplätze nur über TicketShop Unterschleißheim buchbar (Tel.: 089/ 31009-200 oder E-Mail: ticketshop@ush.bayern.de) \n  \nwww.broombezzums.com | www.emerald-dancers.de | www.summerstorm.de  \n  \nFoto: Summerstorm Dance Company
URL:https://summerstorm.de/event/st-patricks-day-in-unterschleissheim
LOCATION:Bürgerhaus Unterschleißheim\, Rathausplatz 1\, Unterschleißheim\, 85716\, Deutschland
ATTACH;FMTTYPE=image/jpeg:https://summerstorm.de/wp-content/uploads/2024/02/P1010381-scaled.jpg
END:VEVENT
BEGIN:VEVENT
DTSTART;TZID=UTC:20231103T193000
DTEND;TZID=UTC:20231103T223000
DTSTAMP:20260423T133527
CREATED:20230806T200652Z
LAST-MODIFIED:20230806T200755Z
UID:191-1699039800-1699050600@summerstorm.de
SUMMARY:Irish Weekend - IRISH MUSIC & DANCE NIGHT in Garching
DESCRIPTION:Dieses Jahr präsentieren wir im Eröffnungskonzert zum Irish Weekend einzigartige Musikensembles sowie zwei wunderbare irische Tanzgruppen. Die Band BREAKING STRINGS ruckt Irish und Scottish Folk in ein neues Licht. Tunes und Songs aus der jahrhundertealten Musiktradition der britischen Inseln werden in feinfühligen Arrangements auf höchstem musikalischen Niveau interpretiert. Als nächstes kann man die Musiker STEFAN DECKER und STEVE CRAWFORD erleben\, die an diesem Abend ihr fantastisches Können zeigen und gemeinsam Lieder und Instrumentalstücke aus Irland und Schottland zu Gehör bringen\, die zum Träumen\, aber auch zum Tanzen anregen. Das Publikum wird nicht nur Ohren\, sondern auch Augen machen\, wenn die zwei irischen Showtanzgruppen SUMMERSTORM DANCE COMPANY und EMERALD DANCERS zur Livemusik mit ihren Irish Dance Darbietungen über die Bühne schweben! Diesen Konzertabend verlasst man garantiert mit einem Lacheln im Gesicht und ̈ einer Melodie auf den Lippen. \n  \nStadt Garching – Kulturreferat in Zusammenarbeit mit der vhs Nord \n  \nEin Workshopprogramm am Samstag und Sonntag findet in der vhs Ismaning statt: \nhttps://www.vhs-nord.de/kurssuche/kurs/21-Irish-Music-Night-Breaking-Strings-Duo-Stefan-Decker-und-Steve-Crawford/Y2570 \n 
URL:https://summerstorm.de/event/irish-weekend-irish-music-dance-night-in-garching
LOCATION:Bürgerhaus Garching
ATTACH;FMTTYPE=image/jpeg:https://summerstorm.de/wp-content/uploads/2023/03/Unterschleissheim_2023-03-10_15-scaled.jpg
END:VEVENT
BEGIN:VEVENT
DTSTART;VALUE=DATE:20230715
DTEND;VALUE=DATE:20230716
DTSTAMP:20260423T133527
CREATED:20230806T195927Z
LAST-MODIFIED:20230806T195927Z
UID:187-1689379200-1689465599@summerstorm.de
SUMMARY:Kulturfest im Schlosspark Ismaning
DESCRIPTION:
URL:https://summerstorm.de/event/kulturfest-im-schlosspark-ismaning
LOCATION:Schlosspark Ismaning
END:VEVENT
BEGIN:VEVENT
DTSTART;TZID=UTC:20230624T090000
DTEND;TZID=UTC:20230624T140000
DTSTAMP:20260423T133527
CREATED:20230623T093020Z
LAST-MODIFIED:20230623T093116Z
UID:181-1687597200-1687615200@summerstorm.de
SUMMARY:Europäischer Freundschaftstag
DESCRIPTION:Unser Auftritt findet um 13 Uhr statt. Wir freuen uns auf euch!
URL:https://summerstorm.de/event/europaeischer-freundschaftstag
LOCATION:Unterschleißheim Rathausplatz\, Unterschleißheim
ATTACH;FMTTYPE=image/jpeg:https://summerstorm.de/wp-content/uploads/2023/06/SG_Plakat_Freundschaftstag_final-scaled.jpg
END:VEVENT
BEGIN:VEVENT
DTSTART;TZID=UTC:20230318T200000
DTEND;TZID=UTC:20230318T230000
DTSTAMP:20260423T133527
CREATED:20230131T200937Z
LAST-MODIFIED:20230131T200937Z
UID:85-1679169600-1679180400@summerstorm.de
SUMMARY:Irish Folk Abend
DESCRIPTION:mit Broom Bezzums und der Summerstorm Dance Company.
URL:https://summerstorm.de/event/irish-folk-abend
LOCATION:Turmberghalle Rohrbach\, Im Frauental 5\, Rohrbach\, 85296
ATTACH;FMTTYPE=image/jpeg:https://summerstorm.de/wp-content/uploads/2023/01/image-2.jpeg
END:VEVENT
BEGIN:VEVENT
DTSTART;TZID=UTC:20230312T120000
DTEND;TZID=UTC:20230312T170000
DTSTAMP:20260423T133527
CREATED:20230131T201410Z
LAST-MODIFIED:20230131T201410Z
UID:89-1678622400-1678640400@summerstorm.de
SUMMARY:St. Patricks Festival Parade
DESCRIPTION:wir nehmen teil an der Parade und am After-Parade Programm\, ca. 16 Uhr bis 16.30 Uhr. \nAlle Informationen hier: \n\nWillkommen beim St. Patrick’s Day München \n\n  \n 
URL:https://summerstorm.de/event/st-patricks-festival-parade
ATTACH;FMTTYPE=image/png:https://summerstorm.de/wp-content/uploads/2023/01/Bildschirmfoto-2023-01-31-um-21.13.33.png
END:VEVENT
BEGIN:VEVENT
DTSTART;TZID=UTC:20230311T203000
DTEND;TZID=UTC:20230311T230000
DTSTAMP:20260423T133527
CREATED:20230130T183636Z
LAST-MODIFIED:20230130T183636Z
UID:75-1678566600-1678575600@summerstorm.de
SUMMARY:St. Patrick’s Festival Pre-Parade Party 2023
DESCRIPTION:Paraden und Feste\, grüne Kleidung\, Bier und Kleeblätter überall. Jedes Jahr am 17. März feiert der St. Patrick’s Day seinen Namensgeber den Heiligen Patrick\, dessen Erbe und die irische Kultur. Dank der vielen irischen Einwanderer\, die sich seit Beginn der westlichen Besiedlung in den heutigen USA niedergelassen haben\, hat diese Tradition den Atlantik überquert und ist in vielen Amerikanischen Städten ein großes Spektakel. \nNachdem die Feierlichkeiten für zwei Jahre nicht stattfinden konnten\, freuen wir uns\, dass unsere St. Patrick’s Day Pre-Parade Party 2023 endlich umsetzbar ist. \nEs erwartet Sie ein abwechslungsreiches Aufgebot an Künstler*innen aus Irland und Deutschland mit der Paul Daly Band\, der Summerstorm Irish Dance Company und den Emerald Dancers. Als Special Guests erscheinen Larún und Caro Kelley. \nEröffnet wird das Programm um 19:00 Uhr mit der „The Foyer Session“ mit The Hot Asphalt aus Irland. Um 20:30 Uhr öffnet der Theatersaal für das weitere Programm seine Türen.
URL:https://summerstorm.de/event/st-patricks-festival-pre-parade-party-2023
LOCATION:Amerikahaus München\, Karolinenplatz 3\, München\, 80333\, Deutschland
ATTACH;FMTTYPE=image/jpeg:https://summerstorm.de/wp-content/uploads/2023/01/image-1.jpeg
ORGANIZER;CN="Paul Daly Band":MAILTO:https://pauldalyband.de
END:VEVENT
BEGIN:VEVENT
DTSTART;TZID=UTC:20230310T200000
DTEND;TZID=UTC:20230310T223000
DTSTAMP:20260423T133527
CREATED:20230130T184113Z
LAST-MODIFIED:20230130T184212Z
UID:79-1678478400-1678487400@summerstorm.de
SUMMARY:Eröffnungskonzert zum St. Patrick’s Day Festival München 2023
DESCRIPTION:Feiern Sie mit der Paul Daly Band\, den Emerald Dancers und der Summerstorm Dance Company!\nDie Paul Daly Band (Paul Daly\, Phil Newton\, Bettina Kuhn\, Paul Solecki) ist eine in München beheimatete Folkband mit Mitgliedern aus Irland\, England\, Deutschland und den USA\, die seit 14 Jahren zusammen spielen und seitdem 7 CD’s aufgenommen haben. Als Gastmusiker begrüßt die Band an diesem Abend Paul Richards und Colm O‘Tuama.\nPaul Daly komponiert und textet die meisten Songs der Band\, alle Bandmitglieder sind sehr erfahrene Musiker in verschiedenen Genres. Ihre Musik könnte man als Folk mit einem sehr irischen Touch beschreiben. Genau das Richtige um den St. Patrick’s Day ausgelassen zu feiern!\nDazu tragen auch die TänzerInnen der zwei Irish Dance Gruppen bei. Das Publikum wird nicht nur Ohren\, sondern auch Augen machen\, wenn die die Emerald Dancers und die Summerstorm Dance Company dieses Konzert mit ihren Irish Dance Darbietungen zu einem unvergesslichen Abend machen!\nIn Zusammenarbeit mit Forum Unterschleißheim\, Munich Irish Network e.V. und der Volkshochschule im Norden des Lkr. München e.V.\nAnmeldung/ Tickets ab dem 14. Februar 2023 über die Webseite der Stadt Unterschleißheim:\nwww.forum-unterschleissheim.de
URL:https://summerstorm.de/event/eroeffnungskonzert-zum-st-patricks-day-festival-muenchen-2023
LOCATION:Bürgerhaus Unterschleißheim\, Rathausplatz 1\, Unterschleißheim\, 85716\, Deutschland
END:VEVENT
BEGIN:VEVENT
DTSTART;TZID=UTC:20230304T200000
DTEND;TZID=UTC:20230304T230000
DTSTAMP:20260423T133527
CREATED:20230130T183022Z
LAST-MODIFIED:20230131T201038Z
UID:70-1677960000-1677970800@summerstorm.de
SUMMARY:Neufahrner Irish Night 2023
DESCRIPTION:The Irish Night\n\n\n\n\n\nmit der Paul Daly Band\, Caro Kelley\, Konrad Stock (Dudelsack) sowie den Showtanzgruppen Summerstorm Irish Dance Company und den Emerald Dancers \nKartenvorverkauf über Schreibwaren Glück in Neufahrn zum Preis von 18€\, Kinder und Jugendliche 9€. Einlass 19:00\, Beginn 20:00. Abendkasse :  20€/Erwachsene; 10€/Kinder. Inhaber Landkreispass zahlen mit Ausweis 2€ an der Abendkasse. \nCatering: Pflügerhof
URL:https://summerstorm.de/event/neufahrner-irish-night-2023
LOCATION:Oskar-Maria-Graf-Gymnasium\, Keltenweg 5\, Neufahrn\, 85375
ATTACH;FMTTYPE=image/jpeg:https://summerstorm.de/wp-content/uploads/2023/01/image.jpeg
END:VEVENT
BEGIN:VEVENT
DTSTART;TZID=UTC:20221104T200000
DTEND;TZID=UTC:20221104T230000
DTSTAMP:20260423T133527
CREATED:20230130T181553Z
LAST-MODIFIED:20230130T181553Z
UID:65-1667592000-1667602800@summerstorm.de
SUMMARY:Irish Weekend
DESCRIPTION:
URL:https://summerstorm.de/event/irish-weekend
LOCATION:Bürgerhaus Garching
END:VEVENT
END:VCALENDAR